BEGIN:VCALENDAR
VERSION:2.0
PRODID:-//Stadtteilbücherei St. Clemens - ECPv6.8.3//NONSGML v1.0//EN
CALSCALE:GREGORIAN
METHOD:PUBLISH
X-WR-CALNAME:Stadtteilbücherei St. Clemens
X-ORIGINAL-URL:https://www.stadtteilbuecherei-hiltrup.de
X-WR-CALDESC:Veranstaltungen für Stadtteilbücherei St. Clemens
REFRESH-INTERVAL;VALUE=DURATION:PT1H
X-Robots-Tag:noindex
X-PUBLISHED-TTL:PT1H
BEGIN:VTIMEZONE
TZID:Europe/Berlin
BEGIN:DAYLIGHT
TZOFFSETFROM:+0100
TZOFFSETTO:+0200
TZNAME:CEST
DTSTART:20230326T010000
END:DAYLIGHT
BEGIN:STANDARD
TZOFFSETFROM:+0200
TZOFFSETTO:+0100
TZNAME:CET
DTSTART:20231029T010000
END:STANDARD
END:VTIMEZONE
BEGIN:VEVENT
DTSTART;TZID=Europe/Berlin:20230513T100000
DTEND;TZID=Europe/Berlin:20230514T170000
DTSTAMP:20260424T010345
CREATED:20230311T101529Z
LAST-MODIFIED:20230311T101529Z
UID:5483-1683972000-1684083600@www.stadtteilbuecherei-hiltrup.de
SUMMARY:Hiltruper Frühlingsfest - Bücherflohmarkt und Clemens der Lesedrache
DESCRIPTION:Auch in diesem Jahr sind wir wieder mit einem Stand dabei! Ob alte Bücher zum kleinen Preis\, Gratisgutscheine für Leserausweise\, leckere Marmeladen oder Kunsthandwerk\, bei uns ist was los. Außerdem können Sie sich an unserem Stand über das Flüchtlingsnetzwerk Hiltrup und die Organisation Hope and Future e.V. informieren. Unser Lesedrache ist  auch mit einer Vorleseaktion dabei.  \nWir freuen uns auf Ihren Besuch! \nWährend des Frühlingsfestes bleibt die Bücherei geschlossen!
URL:https://www.stadtteilbuecherei-hiltrup.de/event/hiltruper-fruehlingsfest-buecherflohmarkt-und-clemens-der-lesedrache/
LOCATION:Marktallee Hiltrup\, Münster-Hiltrup\, Nordrhein-Westfalen\, Deutschland
CATEGORIES:Flohmarkt,Lesung
ATTACH;FMTTYPE=image/jpeg:https://www.stadtteilbuecherei-hiltrup.de/wp-content/uploads/2019/05/Frühlingsfest-b.jpg
ORGANIZER;CN="Stadtteilb%C3%BCcherei M%C3%BCnster-Hiltrup St. Clemens":MAILTO:info@stadtteilbuecherei-hiltrup.de
END:VEVENT
END:VCALENDAR