BEGIN:VCALENDAR
VERSION:2.0
PRODID:-//Stadtteilbücherei St. Clemens - ECPv6.8.3//NONSGML v1.0//EN
CALSCALE:GREGORIAN
METHOD:PUBLISH
X-WR-CALNAME:Stadtteilbücherei St. Clemens
X-ORIGINAL-URL:https://www.stadtteilbuecherei-hiltrup.de
X-WR-CALDESC:Veranstaltungen für Stadtteilbücherei St. Clemens
REFRESH-INTERVAL;VALUE=DURATION:PT1H
X-Robots-Tag:noindex
X-PUBLISHED-TTL:PT1H
BEGIN:VTIMEZONE
TZID:Europe/Berlin
BEGIN:DAYLIGHT
TZOFFSETFROM:+0100
TZOFFSETTO:+0200
TZNAME:CEST
DTSTART:20230326T010000
END:DAYLIGHT
BEGIN:STANDARD
TZOFFSETFROM:+0200
TZOFFSETTO:+0100
TZNAME:CET
DTSTART:20231029T010000
END:STANDARD
END:VTIMEZONE
BEGIN:VEVENT
DTSTART;TZID=Europe/Berlin:20230916T093000
DTEND;TZID=Europe/Berlin:20230916T120000
DTSTAMP:20260423T191009
CREATED:20230620T100752Z
LAST-MODIFIED:20230620T100808Z
UID:5598-1694856600-1694865600@www.stadtteilbuecherei-hiltrup.de
SUMMARY:Clemens feiert Geburtstag!
DESCRIPTION:Einladung zur großen Drachenparty \nAlle Kinder ab 3 Jahren sind herzlich zum großen Clemens Geburtstag eingeladen. Diesmal steht alles unter dem Thema „Drachen“. Wer mag darf sich entsprechend verkleiden oder seinen Drachenfreund mitbringen!  \nWir starten um 9.30 Uhr mit der Party. Die Kinder werden in zwei Gruppen verschiedene Vorlesestationen durchlaufen und können dazwischen an den Spielstationen einiges ausprobieren bevor wir um 12 Uhr gemeinsam den Geburtstag abschließen.  \n 
URL:https://www.stadtteilbuecherei-hiltrup.de/event/clemens-feiert-geburtstag-2/
LOCATION:Stadtteilbücherei St. Clemens\, Hohe Geest 1b\, Münster-Hiltrup\, NRW\, 48165\, Deutschland
CATEGORIES:Lesung,Makerspace
ATTACH;FMTTYPE=image/jpeg:https://www.stadtteilbuecherei-hiltrup.de/wp-content/uploads/2023/06/Einladung-Clemens-geburtstag.jpg
ORGANIZER;CN="Stadtteilb%C3%BCcherei M%C3%BCnster-Hiltrup St. Clemens":MAILTO:info@stadtteilbuecherei-hiltrup.de
END:VEVENT
END:VCALENDAR