BEGIN:VCALENDAR
VERSION:2.0
PRODID:-//Stadtteilbücherei St. Clemens - ECPv6.8.3//NONSGML v1.0//EN
CALSCALE:GREGORIAN
METHOD:PUBLISH
X-ORIGINAL-URL:https://www.stadtteilbuecherei-hiltrup.de
X-WR-CALDESC:Veranstaltungen für Stadtteilbücherei St. Clemens
REFRESH-INTERVAL;VALUE=DURATION:PT1H
X-Robots-Tag:noindex
X-PUBLISHED-TTL:PT1H
BEGIN:VTIMEZONE
TZID:Europe/Berlin
BEGIN:DAYLIGHT
TZOFFSETFROM:+0100
TZOFFSETTO:+0200
TZNAME:CEST
DTSTART:20230326T010000
END:DAYLIGHT
BEGIN:STANDARD
TZOFFSETFROM:+0200
TZOFFSETTO:+0100
TZNAME:CET
DTSTART:20231029T010000
END:STANDARD
END:VTIMEZONE
BEGIN:VEVENT
DTSTART;TZID=Europe/Berlin:20231123T193000
DTEND;TZID=Europe/Berlin:20231123T213000
DTSTAMP:20260424T000109
CREATED:20230829T153023Z
LAST-MODIFIED:20230829T153023Z
UID:5678-1700767800-1700775000@www.stadtteilbuecherei-hiltrup.de
SUMMARY:Buchvorstellung der Stadtteilbücherei und Hiltruper Buchhandlung
DESCRIPTION:Auch in diesem Jahr stellen wir zusammen mit der Hiltruper Buchhandlung wieder unsere Lieblingsbücher vor. Über das Jahr haben wir fleißig gelesen und gesammelt und möchten Sie an unseren Fundstücken teilhaben lassen.  \nEine Anmeldung zu diesem Abend erfolgt direkt über die Hiltruper Buchhandlung
URL:https://www.stadtteilbuecherei-hiltrup.de/event/buchvorstellung-der-stadtteilbuecherei-und-hiltruper-buchhandlung/
LOCATION:Pfarrzentrum St. Clemens\, Patronatsstr. 2\, Münster\, NRW\, Deutschland
CATEGORIES:Lesung,Vortrag
ATTACH;FMTTYPE=image/jpeg:https://www.stadtteilbuecherei-hiltrup.de/wp-content/uploads/2023/08/Buchvorstellung.jpg
END:VEVENT
END:VCALENDAR