BEGIN:VCALENDAR
VERSION:2.0
PRODID:-//Stadtteilbücherei St. Clemens - ECPv6.8.3//NONSGML v1.0//EN
CALSCALE:GREGORIAN
METHOD:PUBLISH
X-WR-CALNAME:Stadtteilbücherei St. Clemens
X-ORIGINAL-URL:https://www.stadtteilbuecherei-hiltrup.de
X-WR-CALDESC:Veranstaltungen für Stadtteilbücherei St. Clemens
REFRESH-INTERVAL;VALUE=DURATION:PT1H
X-Robots-Tag:noindex
X-PUBLISHED-TTL:PT1H
BEGIN:VTIMEZONE
TZID:Europe/Berlin
BEGIN:DAYLIGHT
TZOFFSETFROM:+0100
TZOFFSETTO:+0200
TZNAME:CEST
DTSTART:20210328T010000
END:DAYLIGHT
BEGIN:STANDARD
TZOFFSETFROM:+0200
TZOFFSETTO:+0100
TZNAME:CET
DTSTART:20211031T010000
END:STANDARD
END:VTIMEZONE
BEGIN:VEVENT
DTSTART;TZID=Europe/Berlin:20210319T170000
DTEND;TZID=Europe/Berlin:20210319T220000
DTSTAMP:20260426T003637
CREATED:20200709T152559Z
LAST-MODIFIED:20200709T152559Z
UID:3630-1616173200-1616191200@www.stadtteilbuecherei-hiltrup.de
SUMMARY:Nacht der Bibliotheken - mitmischen!
DESCRIPTION:Wir laden Sie herzlich zur Nacht der Bibliotheken ein! Dieses mal unter dem Motto: „Mitmischen“  \nDas genaue Programm folgt. \n  \n„Alle zwei Jahre bieten die Bibliotheken aller Sparten in NRW ihren Besucherinnen und Besuchern etwas ganz Besonderes: Sie öffnen ihre Häuser bis tief in die Nacht und laden unter einem bestimmten Motto zu spannendem\, poetischem\, sinnlichem oder amüsantem Programm ein. Zehntausende haben bei der „Nacht der Bibliotheken“ zwischen Niederrhein und Eifel ihren Spaß: Kinder\, Jugendliche\, Singles\, Rentner und ganze Familien. Veranstalter ist der Verband der Bibliotheken des Landes Nordrhein-Westfalen e. V. (vbnw)“.
URL:https://www.stadtteilbuecherei-hiltrup.de/event/nacht-der-bibliotheken-mitmischen/
LOCATION:Stadtteilbücherei St. Clemens\, Hohe Geest 1b\, Münster-Hiltrup\, NRW\, 48165\, Deutschland
CATEGORIES:Flohmarkt,Lesung,Makerspace
ATTACH;FMTTYPE=image/jpeg:https://www.stadtteilbuecherei-hiltrup.de/wp-content/uploads/2020/07/Bibnacht2021.jpg
END:VEVENT
END:VCALENDAR