BEGIN:VCALENDAR
VERSION:2.0
PRODID:-//Stadtteilbücherei St. Clemens - ECPv6.8.3//NONSGML v1.0//EN
CALSCALE:GREGORIAN
METHOD:PUBLISH
X-WR-CALNAME:Stadtteilbücherei St. Clemens
X-ORIGINAL-URL:https://www.stadtteilbuecherei-hiltrup.de
X-WR-CALDESC:Veranstaltungen für Stadtteilbücherei St. Clemens
REFRESH-INTERVAL;VALUE=DURATION:PT1H
X-Robots-Tag:noindex
X-PUBLISHED-TTL:PT1H
BEGIN:VTIMEZONE
TZID:Europe/Berlin
BEGIN:DAYLIGHT
TZOFFSETFROM:+0100
TZOFFSETTO:+0200
TZNAME:CEST
DTSTART:20210328T010000
END:DAYLIGHT
BEGIN:STANDARD
TZOFFSETFROM:+0200
TZOFFSETTO:+0100
TZNAME:CET
DTSTART:20211031T010000
END:STANDARD
END:VTIMEZONE
BEGIN:VEVENT
DTSTART;TZID=Europe/Berlin:20210717T100000
DTEND;TZID=Europe/Berlin:20210717T103000
DTSTAMP:20260425T185258
CREATED:20210630T090214Z
LAST-MODIFIED:20210630T090214Z
UID:4283-1626516000-1626517800@www.stadtteilbuecherei-hiltrup.de
SUMMARY:Clemens der Lesedrache lädt ein ... Grundschulkinder
DESCRIPTION:Eingeladen sind hier alle Kinder von 7-10 Jahren. Eine verbindliche Anmeldung erfolgt über die Bücherei. Wir treffen uns im Pfarrzentrum St. Clemens\, Patronatsstr. 2 (hinter der Bücherei) und lesen die Geschichten als Bilderbuchkino. Bringt euch bitte eure eigenen Sitzkissen mit! \nAufgrund der Corona-Auflagen gelten einige Beschränkungen: \n\nKommt bitte nur zu uns wenn ihr keine Krankheitssymptome aufweist!\nhöchstens 16 Plätze (Kinder und Begleitpersonen zählen einzeln!)\nEine verbindliche Anmeldung in der Bücherei ist nötig (Name\, Anschrift\, Telefonnummer)\nMindestalter: 7 Jahre\, maximal 10 Jahre (An den Altersgrenzen wird streng festgehalten.)\nFeste Sitzplätze mit ausreichend Abstand\nTragen eines Mund-Nasen-Schutzes ist nötig (kann am Sitzplatz abgenommen werden)\nDie Toiletten sind nicht nutzbar!\nDie Lesungen finden unter Vorbehalt der aktuellen Situation statt und können auch kurzfristig ausfallen. Wir informieren euch rechtzeitig.
URL:https://www.stadtteilbuecherei-hiltrup.de/event/clemens-der-lesedrache-laedt-ein-grundschulkinder-18/
LOCATION:NRW
CATEGORIES:Lesung
ATTACH;FMTTYPE=image/jpeg:https://www.stadtteilbuecherei-hiltrup.de/wp-content/uploads/2018/12/clemens_logo.jpg
END:VEVENT
BEGIN:VEVENT
DTSTART;TZID=Europe/Berlin:20210724T100000
DTEND;TZID=Europe/Berlin:20210724T103000
DTSTAMP:20260425T185258
CREATED:20210630T085734Z
LAST-MODIFIED:20210630T085734Z
UID:4281-1627120800-1627122600@www.stadtteilbuecherei-hiltrup.de
SUMMARY:Clemens der Lesedrache lädt ein ... Kindergartenkinder
DESCRIPTION:Eingeladen sind hier alle Kinder von 3-6 Jahren. Eine verbindliche Anmeldung erfolgt über die Bücherei\, jeweils zwei Wochen im Voraus. Wir treffen uns im Pfarrzentrum St. Clemens\, Patronatsstr. 2 (hinter der Bücherei) und lesen die Geschichten als Bilderbuchkino. Bringt euch bitte eure eigenen Sitzkissen mit! \nAufgrund der Corona-Auflagen gelten einige Beschränkungen: \n\nKommt bitte nur zu uns wenn ihr keine Krankheitssymptome aufweist!\nHöchstens 8 Kinder\, insgesamt höchstens 16 Plätze (Kinder und Begleitpersonen zählen einzeln!)\nJedes Kind benötigt eine Begleitperson\, die ebenfalls mit angemeldet werden muss\nEine verbindliche Anmeldung in der Bücherei ist nötig (Name\, Anschrift\, Telefonnummer)\nMindestalter: 3 Jahre\, maximal 6 Jahre (Kindergartenalter!\, für Grundschulkinder bieten wir gesonderte Lesungen an. An den Altersgrenzen wird streng festgehalten.)\nFeste Sitzplätze mit ausreichend Abstand\nTragen eines Mund-Nasen-Schutzes ist erst ab Schulalter nötig (kann am Sitzplatz abgenommen werden)\nDie Toiletten sind nicht nutzbar!\nDie Lesungen finden unter Vorbehalt der aktuellen Situation statt und können auch kurzfristig ausfallen. Wir informieren euch rechtzeitig.
URL:https://www.stadtteilbuecherei-hiltrup.de/event/clemens-der-lesedrache-laedt-ein-kindergartenkinder-22/
LOCATION:Pfarrzentrum St. Clemens\, Patronatsstr. 2\, Münster\, NRW\, Deutschland
CATEGORIES:Lesung
ATTACH;FMTTYPE=image/jpeg:https://www.stadtteilbuecherei-hiltrup.de/wp-content/uploads/2018/12/clemens_logo.jpg
ORGANIZER;CN="Stadtteilb%C3%BCcherei M%C3%BCnster-Hiltrup St. Clemens":MAILTO:info@stadtteilbuecherei-hiltrup.de
END:VEVENT
END:VCALENDAR