BEGIN:VCALENDAR
VERSION:2.0
PRODID:-//Stadtteilbücherei St. Clemens - ECPv6.8.3//NONSGML v1.0//EN
CALSCALE:GREGORIAN
METHOD:PUBLISH
X-ORIGINAL-URL:https://www.stadtteilbuecherei-hiltrup.de
X-WR-CALDESC:Veranstaltungen für Stadtteilbücherei St. Clemens
REFRESH-INTERVAL;VALUE=DURATION:PT1H
X-Robots-Tag:noindex
X-PUBLISHED-TTL:PT1H
BEGIN:VTIMEZONE
TZID:Europe/Berlin
BEGIN:DAYLIGHT
TZOFFSETFROM:+0100
TZOFFSETTO:+0200
TZNAME:CEST
DTSTART:20230326T010000
END:DAYLIGHT
BEGIN:STANDARD
TZOFFSETFROM:+0200
TZOFFSETTO:+0100
TZNAME:CET
DTSTART:20231029T010000
END:STANDARD
END:VTIMEZONE
BEGIN:VEVENT
DTSTART;TZID=Europe/Berlin:20231111T093000
DTEND;TZID=Europe/Berlin:20231111T160000
DTSTAMP:20260423T151932
CREATED:20231030T162735Z
LAST-MODIFIED:20231030T162736Z
UID:5751-1699695000-1699718400@www.stadtteilbuecherei-hiltrup.de
SUMMARY:40 jähriges Bücherei-Jubiläum!
DESCRIPTION:Vor 40 Jahren hat die Stadtteilbücherei an diesem Standort ihre Türen geöffnet! Das möchten wir mit allen feiern.  \nWir beginnen den Tag mit einer Lesung mit Clemens dem Lesedrachen. Weiter geht es mit Kaffee im „zweiten Wohnzimmer“\, verschiedenen Spielestationen und einem Bücherflohmarkt. Eine kleine Ausstellung über die letzten 40 Jahre der Bücherei sowie viele Gespräche mit der langjährigen Leiterin Magdalene Faber runden den Tag ab. 
URL:https://www.stadtteilbuecherei-hiltrup.de/event/40-jaehriges-buecherei-jubilaeum/
LOCATION:Stadtteilbücherei St. Clemens\, Hohe Geest 1b\, Münster-Hiltrup\, NRW\, 48165\, Deutschland
CATEGORIES:Flohmarkt,Lesung,Makerspace,Vortrag
ATTACH;FMTTYPE=image/jpeg:https://www.stadtteilbuecherei-hiltrup.de/wp-content/uploads/2023/10/Eroeffnung-1.jpg
ORGANIZER;CN="Stadtteilb%C3%BCcherei M%C3%BCnster-Hiltrup St. Clemens":MAILTO:info@stadtteilbuecherei-hiltrup.de
END:VEVENT
BEGIN:VEVENT
DTSTART;TZID=Europe/Berlin:20231111T100000
DTEND;TZID=Europe/Berlin:20231111T110000
DTSTAMP:20260423T151932
CREATED:20230620T094708Z
LAST-MODIFIED:20230620T094708Z
UID:5583-1699696800-1699700400@www.stadtteilbuecherei-hiltrup.de
SUMMARY:Clemens der Lesedrache lädt ein ... Kindergartenkinder
DESCRIPTION:Thema: Piraten \nDie Kinder dürfen gern als Pirat und Piratin verkleidet kommen! \nEingeladen sind hier alle Kinder von 3-6 Jahren (Vorschulkinder). Die kostenlosen Eintrittskarten sind jeweils 14 Tage vor der Veranstaltung in der Bücherei erhältlich.\nNeu: Es gibt für Kindergartenkinder zwei Vorlesezeiten. Wir lesen jeweils dasselbe Buch und bieten dieselbe Bastelaktion an. Bitte suchen Sie sich nur eine der Lesungen aus. Bei Reservierungen bitte Name und Alter des Kindes sowie eine Kontakttelefonnummer hinterlegen lassen.  \nWir bitten euch einige Voraussetzungen zu beachten:  \n\nKommt bitte nur zu uns wenn ihr keine Krankheitssymptome aufweist!\nMindestalter: Kindergartenlesungen: ab 3 Jahre\, maximal Vorschulkind\, Grundschullesungen: ab 6 Jahren (An den Altersgrenzen wird streng festgehalten.)\nDie Lesungen finden unter Vorbehalt der aktuellen Situation statt und können auch kurzfristig ausfallen. Wir informieren euch rechtzeitig.
URL:https://www.stadtteilbuecherei-hiltrup.de/event/clemens-der-lesedrache-laedt-ein-kindergartenkinder-45/
LOCATION:Stadtteilbücherei St. Clemens\, Hohe Geest 1b\, Münster-Hiltrup\, NRW\, 48165\, Deutschland
CATEGORIES:Lesung
ATTACH;FMTTYPE=image/jpeg:https://www.stadtteilbuecherei-hiltrup.de/wp-content/uploads/2016/10/clemens_logo-e1475945161659.jpg
ORGANIZER;CN="Stadtteilb%C3%BCcherei M%C3%BCnster-Hiltrup St. Clemens":MAILTO:info@stadtteilbuecherei-hiltrup.de
END:VEVENT
BEGIN:VEVENT
DTSTART;TZID=Europe/Berlin:20231111T113000
DTEND;TZID=Europe/Berlin:20231111T123000
DTSTAMP:20260423T151932
CREATED:20230620T094905Z
LAST-MODIFIED:20230620T094905Z
UID:5585-1699702200-1699705800@www.stadtteilbuecherei-hiltrup.de
SUMMARY:Clemens der Lesedrache lädt ein ... Kindergartenkinder
DESCRIPTION:Thema: Piraten \nDie Kinder dürfen gern als Pirat und Piratin verkleidet kommen! \nEingeladen sind hier alle Kinder von 3-6 Jahren (Vorschulkinder). Die kostenlosen Eintrittskarten sind jeweils 14 Tage vor der Veranstaltung in der Bücherei erhältlich.\nNeu: Es gibt für Kindergartenkinder zwei Vorlesezeiten. Wir lesen jeweils dasselbe Buch und bieten dieselbe Bastelaktion an. Bitte suchen Sie sich nur eine der Lesungen aus. Bei Reservierungen bitte Name und Alter des Kindes sowie eine Kontakttelefonnummer hinterlegen lassen.  \nWir bitten euch einige Voraussetzungen zu beachten:  \n\nKommt bitte nur zu uns wenn ihr keine Krankheitssymptome aufweist!\nMindestalter: Kindergartenlesungen: ab 3 Jahre\, maximal Vorschulkind\, Grundschullesungen: ab 6 Jahren (An den Altersgrenzen wird streng festgehalten.)\nDie Lesungen finden unter Vorbehalt der aktuellen Situation statt und können auch kurzfristig ausfallen. Wir informieren euch rechtzeitig.
URL:https://www.stadtteilbuecherei-hiltrup.de/event/clemens-der-lesedrache-laedt-ein-kindergartenkinder-46/
LOCATION:Stadtteilbücherei St. Clemens\, Hohe Geest 1b\, Münster-Hiltrup\, NRW\, 48165\, Deutschland
CATEGORIES:Lesung
ATTACH;FMTTYPE=image/jpeg:https://www.stadtteilbuecherei-hiltrup.de/wp-content/uploads/2016/10/clemens_logo-e1475945161659.jpg
ORGANIZER;CN="Stadtteilb%C3%BCcherei M%C3%BCnster-Hiltrup St. Clemens":MAILTO:info@stadtteilbuecherei-hiltrup.de
END:VEVENT
BEGIN:VEVENT
DTSTART;TZID=Europe/Berlin:20231118T100000
DTEND;TZID=Europe/Berlin:20231118T110000
DTSTAMP:20260423T151932
CREATED:20230620T095631Z
LAST-MODIFIED:20230620T095631Z
UID:5594-1700301600-1700305200@www.stadtteilbuecherei-hiltrup.de
SUMMARY:Clemens der Lesedrache lädt ein ... Grundschulkinder
DESCRIPTION:Thema: Achtsamkeit  \nEingeladen sind hier alle Kinder ab 6 Jahren (Grundschulkinder). Die kostenlosen Eintrittskarten sind jeweils 14 Tage vor der Veranstaltung in der Bücherei erhältlich.\nBei Reservierungen bitte Name und Alter des Kindes sowie eine Kontakttelefonnummer hinterlegen lassen.  \nWir bitten euch einige Voraussetzungen zu beachten:  \n\nKommt bitte nur zu uns wenn ihr keine Krankheitssymptome aufweist!\nMindestalter: Kindergartenlesungen: ab 3 Jahre\, maximal Vorschulkind\, Grundschullesungen: ab 6 Jahren (An den Altersgrenzen wird streng festgehalten.)\nDie Lesungen finden unter Vorbehalt der aktuellen Situation statt und können auch kurzfristig ausfallen. Wir informieren euch rechtzeitig.
URL:https://www.stadtteilbuecherei-hiltrup.de/event/clemens-der-lesedrache-laedt-ein-grundschulkinder-37/
LOCATION:NRW
CATEGORIES:Lesung
ATTACH;FMTTYPE=image/jpeg:https://www.stadtteilbuecherei-hiltrup.de/wp-content/uploads/2016/10/clemens_logo-e1475945161659.jpg
END:VEVENT
BEGIN:VEVENT
DTSTART;TZID=Europe/Berlin:20231123T193000
DTEND;TZID=Europe/Berlin:20231123T213000
DTSTAMP:20260423T151932
CREATED:20230829T153023Z
LAST-MODIFIED:20230829T153023Z
UID:5678-1700767800-1700775000@www.stadtteilbuecherei-hiltrup.de
SUMMARY:Buchvorstellung der Stadtteilbücherei und Hiltruper Buchhandlung
DESCRIPTION:Auch in diesem Jahr stellen wir zusammen mit der Hiltruper Buchhandlung wieder unsere Lieblingsbücher vor. Über das Jahr haben wir fleißig gelesen und gesammelt und möchten Sie an unseren Fundstücken teilhaben lassen.  \nEine Anmeldung zu diesem Abend erfolgt direkt über die Hiltruper Buchhandlung
URL:https://www.stadtteilbuecherei-hiltrup.de/event/buchvorstellung-der-stadtteilbuecherei-und-hiltruper-buchhandlung/
LOCATION:Pfarrzentrum St. Clemens\, Patronatsstr. 2\, Münster\, NRW\, Deutschland
CATEGORIES:Lesung,Vortrag
ATTACH;FMTTYPE=image/jpeg:https://www.stadtteilbuecherei-hiltrup.de/wp-content/uploads/2023/08/Buchvorstellung.jpg
END:VEVENT
END:VCALENDAR