BEGIN:VCALENDAR
VERSION:2.0
PRODID:-//Stadtteilbücherei St. Clemens - ECPv6.8.3//NONSGML v1.0//EN
CALSCALE:GREGORIAN
METHOD:PUBLISH
X-ORIGINAL-URL:https://www.stadtteilbuecherei-hiltrup.de
X-WR-CALDESC:Veranstaltungen für Stadtteilbücherei St. Clemens
REFRESH-INTERVAL;VALUE=DURATION:PT1H
X-Robots-Tag:noindex
X-PUBLISHED-TTL:PT1H
BEGIN:VTIMEZONE
TZID:Europe/Berlin
BEGIN:DAYLIGHT
TZOFFSETFROM:+0100
TZOFFSETTO:+0200
TZNAME:CEST
DTSTART:20240331T010000
END:DAYLIGHT
BEGIN:STANDARD
TZOFFSETFROM:+0200
TZOFFSETTO:+0100
TZNAME:CET
DTSTART:20241027T010000
END:STANDARD
END:VTIMEZONE
BEGIN:VEVENT
DTSTART;VALUE=DATE:20240504
DTEND;VALUE=DATE:20240506
DTSTAMP:20260422T171659
CREATED:20240124T110401Z
LAST-MODIFIED:20240424T131553Z
UID:5888-1714780800-1714953599@www.stadtteilbuecherei-hiltrup.de
SUMMARY:Hiltruper Frühlingsfest : Bücherflohmarkt und Lesedrache
DESCRIPTION:Auch in diesem Jahr sind wir wieder mit einem Stand dabei! Ob alte Bücher zum kleinen Preis\, Gratisgutscheine für Leserausweise\, bei uns ist was los. Außerdem können Sie sich an unserem Stand über das Flüchtlingsnetzwerk Hiltrup informieren.  \nUnser Lesedrache ist  auch mit einer Vorleseaktion dabei. Am Samstag lesen die Vorleser/innen am Stand aus ihren Lieblingsbüchern vor. Jeder kann dabei sein und es ist keine Anmeldung nötig!    \nWir freuen uns auf Ihren Besuch! \n 
URL:https://www.stadtteilbuecherei-hiltrup.de/event/hiltruper-fruehlingsfest-buecherflohmarkt-und-lesedrache/
LOCATION:Marktallee Hiltrup\, Münster-Hiltrup\, Nordrhein-Westfalen\, Deutschland
CATEGORIES:Flohmarkt,Lesung
ATTACH;FMTTYPE=image/jpeg:https://www.stadtteilbuecherei-hiltrup.de/wp-content/uploads/2024/01/Fruehlingsfest-Foto-2023.jpg
ORGANIZER;CN="Stadtteilb%C3%BCcherei M%C3%BCnster-Hiltrup St. Clemens":MAILTO:info@stadtteilbuecherei-hiltrup.de
END:VEVENT
BEGIN:VEVENT
DTSTART;TZID=Europe/Berlin:20240508T183000
DTEND;TZID=Europe/Berlin:20240508T200000
DTSTAMP:20260422T171659
CREATED:20240309T123515Z
LAST-MODIFIED:20240309T123515Z
UID:5968-1715193000-1715198400@www.stadtteilbuecherei-hiltrup.de
SUMMARY:Mittwochsgeschichten - Die Schreibwerkstatt
DESCRIPTION:Das Entwickeln\, Schreiben\, Vortragen und Besprechen eigener Texte ist ein kreativer Prozess\, der viel Spaß macht. In einer Gruppe von maximal 9 Teilnehmenden treffen wir uns mittwochs in der Stadtteilbücherei an 6 festen Terminen die aufeinander aufbauen.  \nMitzubringen sind: Freude am Schreiben\, Spaß am Dichten und Neugier eine Schreibwerkstatt zu erleben.  \nTermine: 8.5.\, 15.5.\, 22.5.\, 5.6.\, 12.6.\, 19.6. jeweils von 18:30 Uhr bis 20:00 Uhr \nLeitung: Dipl. Psych. Ute Küster \nThemen:  \n\nDie Macht der Sprache\nPoesie- und Bibliotherapie\nSchreibwerkstatt in Theorie und Praxis (Begegnung mit Sprache\, Poesie und Geschichten\, Stilsicher – biografische Kurzgeschichten) \n\nAnmeldung: Ab sofort möglich
URL:https://www.stadtteilbuecherei-hiltrup.de/event/mittwochsgeschichten-die-schreibwerkstatt/
LOCATION:Stadtteilbücherei St. Clemens\, Hohe Geest 1b\, Münster-Hiltrup\, NRW\, 48165\, Deutschland
CATEGORIES:Makerspace
ATTACH;FMTTYPE=image/jpeg:https://www.stadtteilbuecherei-hiltrup.de/wp-content/uploads/2024/03/Schreibwerkstatt-19.6.24.jpg
ORGANIZER;CN="Stadtteilb%C3%BCcherei M%C3%BCnster-Hiltrup St. Clemens":MAILTO:info@stadtteilbuecherei-hiltrup.de
END:VEVENT
BEGIN:VEVENT
DTSTART;TZID=Europe/Berlin:20240511T100000
DTEND;TZID=Europe/Berlin:20240511T123000
DTSTAMP:20260422T171659
CREATED:20240309T120634Z
LAST-MODIFIED:20240309T120634Z
UID:5954-1715421600-1715430600@www.stadtteilbuecherei-hiltrup.de
SUMMARY:Clemens der Lesedrache lädt ein ... Kindergartenkinder
DESCRIPTION:Thema: Muttertag  \nEingeladen sind hier alle Kinder von 3-6 Jahren (Vorschulkinder). Die kostenlosen Eintrittskarten sind jeweils 14 Tage vor der Veranstaltung in der Bücherei erhältlich und ggf. telefonisch reservierbar.\nNeu: Es gibt für Kindergartenkinder zwei Vorlesezeiten (10 Uhr und 11:30 Uhr). Wir lesen jeweils dasselbe Buch und bieten dieselbe Bastelaktion an. Bitte suchen Sie sich nur eine der Lesungen aus. Bei Reservierungen bitte Name und Alter des Kindes sowie eine Kontakttelefonnummer hinterlegen lassen.\nBitte achten Sie auf die Altersangaben bei den Lesungen! Die Lesungen werden dem Alter der Kinder entsprechend vorbereitet und die Bastelaktionen passend geplant.  \nWir bitten euch einige Voraussetzungen zu beachten:  \n\nKommt bitte nur zu uns wenn ihr keine Krankheitssymptome aufweist! \nMindestalter: Kindergartenlesungen: ab 3 Jahre\, maximal Vorschulkind\, Grundschullesungen: ab 6 Jahren (An den Altersgrenzen wird streng festgehalten.)\nDie Lesungen finden unter Vorbehalt der aktuellen Situation statt und können auch kurzfristig ausfallen. Wir informieren euch rechtzeitig.
URL:https://www.stadtteilbuecherei-hiltrup.de/event/clemens-der-lesedrache-laedt-ein-kindergartenkinder-51/
LOCATION:Stadtteilbücherei St. Clemens\, Hohe Geest 1b\, Münster-Hiltrup\, NRW\, 48165\, Deutschland
CATEGORIES:Lesung
ATTACH;FMTTYPE=image/jpeg:https://www.stadtteilbuecherei-hiltrup.de/wp-content/uploads/2016/10/clemens_logo-e1475945161659.jpg
ORGANIZER;CN="Stadtteilb%C3%BCcherei M%C3%BCnster-Hiltrup St. Clemens":MAILTO:info@stadtteilbuecherei-hiltrup.de
END:VEVENT
BEGIN:VEVENT
DTSTART;TZID=Europe/Berlin:20240518T100000
DTEND;TZID=Europe/Berlin:20240518T110000
DTSTAMP:20260422T171659
CREATED:20240309T120201Z
LAST-MODIFIED:20240309T120201Z
UID:5948-1716026400-1716030000@www.stadtteilbuecherei-hiltrup.de
SUMMARY:Clemens der Lesedrache lädt ein ... Grundschulkinder
DESCRIPTION:Thema: wird nachgereicht \nEingeladen sind hier alle Kinder von 6-10 Jahren (Grundschulkinder). Die kostenlosen Eintrittskarten sind jeweils 14 Tage vor der Veranstaltung in der Bücherei erhältlich und telefonisch reservierbar. Bei Reservierungen bitte Name und Alter des Kindes sowie eine Kontakttelefonnummer hinterlegen lassen.  \nBitte achten Sie auf die Altersangaben bei den Lesungen! Die Lesungen werden dem Alter der Kinder entsprechend vorbereitet und die Bastelaktionen passend geplant.  \nWir bitten euch einige Voraussetzungen zu beachten:  \n\nKommt bitte nur zu uns wenn ihr keine Krankheitssymptome aufweist! \nMindestalter: Kindergartenlesungen: ab 3 Jahre\, maximal Vorschulkind\, Grundschullesungen: ab 6 Jahren (An den Altersgrenzen wird streng festgehalten.)\nDie Lesungen finden unter Vorbehalt der aktuellen Situation statt und können auch kurzfristig ausfallen. Wir informieren euch rechtzeitig.
URL:https://www.stadtteilbuecherei-hiltrup.de/event/clemens-der-lesedrache-laedt-ein-grundschulkinder-42/
LOCATION:Stadtteilbücherei St. Clemens\, Hohe Geest 1b\, Münster-Hiltrup\, NRW\, 48165\, Deutschland
CATEGORIES:Lesung
ATTACH;FMTTYPE=image/jpeg:https://www.stadtteilbuecherei-hiltrup.de/wp-content/uploads/2016/10/clemens_logo-e1475945161659.jpg
ORGANIZER;CN="Stadtteilb%C3%BCcherei M%C3%BCnster-Hiltrup St. Clemens":MAILTO:info@stadtteilbuecherei-hiltrup.de
END:VEVENT
END:VCALENDAR