BEGIN:VCALENDAR
VERSION:2.0
PRODID:-//Stadtteilbücherei St. Clemens - ECPv6.8.3//NONSGML v1.0//EN
CALSCALE:GREGORIAN
METHOD:PUBLISH
X-ORIGINAL-URL:https://www.stadtteilbuecherei-hiltrup.de
X-WR-CALDESC:Veranstaltungen für Stadtteilbücherei St. Clemens
REFRESH-INTERVAL;VALUE=DURATION:PT1H
X-Robots-Tag:noindex
X-PUBLISHED-TTL:PT1H
BEGIN:VTIMEZONE
TZID:Europe/Berlin
BEGIN:DAYLIGHT
TZOFFSETFROM:+0100
TZOFFSETTO:+0200
TZNAME:CEST
DTSTART:20240331T010000
END:DAYLIGHT
BEGIN:STANDARD
TZOFFSETFROM:+0200
TZOFFSETTO:+0100
TZNAME:CET
DTSTART:20241027T010000
END:STANDARD
END:VTIMEZONE
BEGIN:VEVENT
DTSTART;TZID=Europe/Berlin:20240907T100000
DTEND;TZID=Europe/Berlin:20240907T133000
DTSTAMP:20260422T112552
CREATED:20240309T123040Z
LAST-MODIFIED:20240309T123040Z
UID:5964-1725703200-1725715800@www.stadtteilbuecherei-hiltrup.de
SUMMARY:Autorenlesung für Kinder mit Nikola Adler
DESCRIPTION:Nikola Adler ist Autorin von „Max und der kleine Drache- Mein Angst-Entdeckerbuch“ ein wahres Stark-mach-Buch für Kinder zwischen 6 und 12 Jahren. \nDer kleine Drache hat es nicht leicht. Nun soll er fliegen lernen\, obwohl er schreckliche Höhenangst hat. Und dann stürzt er auch noch ab. Doch was geschieht\, hilft ihm wieder zurück in seinen Mut. Erlebe mit\, wie der kleine Drache mit Hilfe des achtjährigen Max seine Angst kennenlernt und Schritt für Schritt mutiger und größer wird. Auch Max stellt sich seiner größten Angst mit Lehrern zu sprechen. Mit magischen und kraftvollen Bildern hilft dieses Buch dabei\, dass du deine eigene Angst kennenlernst und verstehst\, warum sie erst einmal wichtig ist und wie du mit ihr umgehen kannst. Mit Hilfe von QR-Codes kannst du im Internet ein Mutmachlied und vier Traumreisen anhören oder sie dir von jemandem vorlesen lassen. Dazu gibt es tolle Drachentricks und bestimmt lernst du deinen eigenen Drachen kennen und bekommst deine eigene Kraftkugel. Nur Mut! Denn wo Angst ist\, ist auch immer Mut. \nZusammen mit ihr bieten wir einen kleinen „Workshop“ an.  \nEingeladen sind hier 2 x 30 Kinder (mit Voranmeldung!).  
URL:https://www.stadtteilbuecherei-hiltrup.de/event/autorenlesung-fuer-kinder-mit-nikola-adler/
LOCATION:Pfarrzentrum St. Clemens\, Patronatsstr. 2\, Münster\, NRW\, Deutschland
CATEGORIES:Lesung,Makerspace
ORGANIZER;CN="Stadtteilb%C3%BCcherei M%C3%BCnster-Hiltrup St. Clemens":MAILTO:info@stadtteilbuecherei-hiltrup.de
END:VEVENT
BEGIN:VEVENT
DTSTART;TZID=Europe/Berlin:20240914T093000
DTEND;TZID=Europe/Berlin:20240914T130000
DTSTAMP:20260422T112552
CREATED:20240309T123249Z
LAST-MODIFIED:20240710T095014Z
UID:5966-1726306200-1726318800@www.stadtteilbuecherei-hiltrup.de
SUMMARY:Große Clemens Geburtstagsparty - Unsere Vorleseinitiative wird 10 Jahre alt!
DESCRIPTION:Euch erwarten kleine Lesungen\, Spielestationen\, Popcorn und ein Kinderflohmarkt! Nähere Infos folgen! 
URL:https://www.stadtteilbuecherei-hiltrup.de/event/grosse-clemens-geburtstagsparty-unsere-vorleseinitiative-wird-10-jahre-alt/
LOCATION:Stadtteilbücherei St. Clemens\, Hohe Geest 1b\, Münster-Hiltrup\, NRW\, 48165\, Deutschland
CATEGORIES:Flohmarkt,Lesung,Makerspace,Vortrag
ATTACH;FMTTYPE=image/jpeg:https://www.stadtteilbuecherei-hiltrup.de/wp-content/uploads/2023/09/ClemensMarieSebastian.jpg
ORGANIZER;CN="Stadtteilb%C3%BCcherei M%C3%BCnster-Hiltrup St. Clemens":MAILTO:info@stadtteilbuecherei-hiltrup.de
END:VEVENT
BEGIN:VEVENT
DTSTART;TZID=Europe/Berlin:20240924T090000
DTEND;TZID=Europe/Berlin:20240924T110000
DTSTAMP:20260422T112552
CREATED:20240914T083936Z
LAST-MODIFIED:20240914T083936Z
UID:6239-1727168400-1727175600@www.stadtteilbuecherei-hiltrup.de
SUMMARY:Schulklassenveranstaltung
DESCRIPTION:Heute wird es voll und laut in der Bücherei.  \nBitte Berücksichtigen Sie das\, wenn Sie zu uns zum Lernen kommen wollen oder mit einer größeren Gruppe unangemeldet vorbei schauen. 
URL:https://www.stadtteilbuecherei-hiltrup.de/event/schulklassenveranstaltung/
LOCATION:Stadtteilbücherei St. Clemens\, Hohe Geest 1b\, Münster-Hiltrup\, NRW\, 48165\, Deutschland
CATEGORIES:Makerspace,Vortrag
ATTACH;FMTTYPE=image/jpeg:https://www.stadtteilbuecherei-hiltrup.de/wp-content/uploads/2024/03/children-4526384_1280.jpg
END:VEVENT
BEGIN:VEVENT
DTSTART;TZID=Europe/Berlin:20240926T090000
DTEND;TZID=Europe/Berlin:20240926T110000
DTSTAMP:20260422T112552
CREATED:20240914T084027Z
LAST-MODIFIED:20240914T084027Z
UID:6241-1727341200-1727348400@www.stadtteilbuecherei-hiltrup.de
SUMMARY:Schulklassenveranstaltung
DESCRIPTION:Heute wird es voll und laut in der Bücherei.  \nBitte Berücksichtigen Sie das\, wenn Sie zu uns zum Lernen kommen wollen oder mit einer größeren Gruppe unangemeldet vorbei schauen. 
URL:https://www.stadtteilbuecherei-hiltrup.de/event/schulklassenveranstaltung-6/
LOCATION:Stadtteilbücherei St. Clemens\, Hohe Geest 1b\, Münster-Hiltrup\, NRW\, 48165\, Deutschland
CATEGORIES:Makerspace,Vortrag
ATTACH;FMTTYPE=image/jpeg:https://www.stadtteilbuecherei-hiltrup.de/wp-content/uploads/2024/03/children-4526384_1280.jpg
END:VEVENT
END:VCALENDAR