BEGIN:VCALENDAR
VERSION:2.0
PRODID:-//Stadtteilbücherei St. Clemens - ECPv6.8.3//NONSGML v1.0//EN
CALSCALE:GREGORIAN
METHOD:PUBLISH
X-WR-CALNAME:Stadtteilbücherei St. Clemens
X-ORIGINAL-URL:https://www.stadtteilbuecherei-hiltrup.de
X-WR-CALDESC:Veranstaltungen für Stadtteilbücherei St. Clemens
REFRESH-INTERVAL;VALUE=DURATION:PT1H
X-Robots-Tag:noindex
X-PUBLISHED-TTL:PT1H
BEGIN:VTIMEZONE
TZID:Europe/Berlin
BEGIN:DAYLIGHT
TZOFFSETFROM:+0100
TZOFFSETTO:+0200
TZNAME:CEST
DTSTART:20240331T010000
END:DAYLIGHT
BEGIN:STANDARD
TZOFFSETFROM:+0200
TZOFFSETTO:+0100
TZNAME:CET
DTSTART:20241027T010000
END:STANDARD
END:VTIMEZONE
BEGIN:VEVENT
DTSTART;TZID=Europe/Berlin:20241008T090000
DTEND;TZID=Europe/Berlin:20241008T110000
DTSTAMP:20260422T062228
CREATED:20240914T084106Z
LAST-MODIFIED:20240914T084106Z
UID:6243-1728378000-1728385200@www.stadtteilbuecherei-hiltrup.de
SUMMARY:Schulklassenveranstaltung
DESCRIPTION:Heute wird es voll und laut in der Bücherei.  \nBitte Berücksichtigen Sie das\, wenn Sie zu uns zum Lernen kommen wollen oder mit einer größeren Gruppe unangemeldet vorbei schauen. 
URL:https://www.stadtteilbuecherei-hiltrup.de/event/schulklassenveranstaltung-7/
LOCATION:Stadtteilbücherei St. Clemens\, Hohe Geest 1b\, Münster-Hiltrup\, NRW\, 48165\, Deutschland
CATEGORIES:Makerspace,Vortrag
ATTACH;FMTTYPE=image/jpeg:https://www.stadtteilbuecherei-hiltrup.de/wp-content/uploads/2024/03/children-4526384_1280.jpg
END:VEVENT
BEGIN:VEVENT
DTSTART;TZID=Europe/Berlin:20241010T090000
DTEND;TZID=Europe/Berlin:20241010T110000
DTSTAMP:20260422T062228
CREATED:20240914T084141Z
LAST-MODIFIED:20240914T084153Z
UID:6245-1728550800-1728558000@www.stadtteilbuecherei-hiltrup.de
SUMMARY:Schulklassenveranstaltung
DESCRIPTION:Heute wird es voll und laut in der Bücherei.  \nBitte Berücksichtigen Sie das\, wenn Sie zu uns zum Lernen kommen wollen oder mit einer größeren Gruppe unangemeldet vorbei schauen. 
URL:https://www.stadtteilbuecherei-hiltrup.de/event/schulklassenveranstaltung-8/
LOCATION:Stadtteilbücherei St. Clemens\, Hohe Geest 1b\, Münster-Hiltrup\, NRW\, 48165\, Deutschland
CATEGORIES:Makerspace,Vortrag
ATTACH;FMTTYPE=image/jpeg:https://www.stadtteilbuecherei-hiltrup.de/wp-content/uploads/2024/03/children-4526384_1280.jpg
END:VEVENT
BEGIN:VEVENT
DTSTART;TZID=Europe/Berlin:20241012T100000
DTEND;TZID=Europe/Berlin:20241012T110000
DTSTAMP:20260422T062228
CREATED:20240710T094348Z
LAST-MODIFIED:20240710T094348Z
UID:6165-1728727200-1728730800@www.stadtteilbuecherei-hiltrup.de
SUMMARY:Clemens der Lesedrache lädt ein ... Kindergartenkinder
DESCRIPTION:Thema: Verzeihen  \nEingeladen sind hier alle Kinder von 3-6 Jahren (Vorschulkinder). Die kostenlosen Eintrittskarten sind jeweils 14 Tage vor der Veranstaltung in der Bücherei erhältlich und ggf. telefonisch reservierbar.\nNeu: Es gibt für Kindergartenkinder zwei Vorlesezeiten (10 Uhr und 11:30 Uhr). Wir lesen jeweils dasselbe Buch und bieten dieselbe Bastelaktion an. Bitte suchen Sie sich nur eine der Lesungen aus. Bei Reservierungen bitte Name und Alter des Kindes sowie eine Kontakttelefonnummer hinterlegen lassen.\nBitte achten Sie auf die Altersangaben bei den Lesungen! Die Lesungen werden dem Alter der Kinder entsprechend vorbereitet und die Bastelaktionen passend geplant.  \nWir bitten euch einige Voraussetzungen zu beachten:  \n\nKommt bitte nur zu uns wenn ihr keine Krankheitssymptome aufweist! \nMindestalter: Kindergartenlesungen: ab 3 Jahre\, maximal Vorschulkind\, Grundschullesungen: ab 6 Jahren (An den Altersgrenzen wird streng festgehalten.)\nDie Lesungen finden unter Vorbehalt der aktuellen Situation statt und können auch kurzfristig ausfallen. Wir informieren euch rechtzeitig.
URL:https://www.stadtteilbuecherei-hiltrup.de/event/clemens-der-lesedrache-laedt-ein-kindergartenkinder-53/
LOCATION:Stadtteilbücherei St. Clemens\, Hohe Geest 1b\, Münster-Hiltrup\, NRW\, 48165\, Deutschland
CATEGORIES:Lesung
ATTACH;FMTTYPE=image/jpeg:https://www.stadtteilbuecherei-hiltrup.de/wp-content/uploads/2016/10/clemens_logo-e1475945161659.jpg
ORGANIZER;CN="Stadtteilb%C3%BCcherei M%C3%BCnster-Hiltrup St. Clemens":MAILTO:info@stadtteilbuecherei-hiltrup.de
END:VEVENT
BEGIN:VEVENT
DTSTART;TZID=Europe/Berlin:20241019T100000
DTEND;TZID=Europe/Berlin:20241019T110000
DTSTAMP:20260422T062228
CREATED:20240710T093849Z
LAST-MODIFIED:20240710T093849Z
UID:6159-1729332000-1729335600@www.stadtteilbuecherei-hiltrup.de
SUMMARY:Clemens der Lesedrache lädt ein ... Grundschulkinder
DESCRIPTION:Thema: Wir gehen Zelten! \nEingeladen sind hier alle Kinder von 6-10 Jahren (Grundschulkinder). Die kostenlosen Eintrittskarten sind jeweils 14 Tage vor der Veranstaltung in der Bücherei erhältlich und telefonisch reservierbar. Bei Reservierungen bitte Name und Alter des Kindes sowie eine Kontakttelefonnummer hinterlegen lassen.  \nBitte achten Sie auf die Altersangaben bei den Lesungen! Die Lesungen werden dem Alter der Kinder entsprechend vorbereitet und die Bastelaktionen passend geplant.  \nWir bitten euch einige Voraussetzungen zu beachten:  \n\nKommt bitte nur zu uns wenn ihr keine Krankheitssymptome aufweist! \nMindestalter: Kindergartenlesungen: ab 3 Jahre\, maximal Vorschulkind\, Grundschullesungen: ab 6 Jahren (An den Altersgrenzen wird streng festgehalten.)\nDie Lesungen finden unter Vorbehalt der aktuellen Situation statt und können auch kurzfristig ausfallen. Wir informieren euch rechtzeitig
URL:https://www.stadtteilbuecherei-hiltrup.de/event/clemens-der-lesedrache-laedt-ein-grundschulkinder-44/
LOCATION:Stadtteilbücherei St. Clemens\, Hohe Geest 1b\, Münster-Hiltrup\, NRW\, 48165\, Deutschland
CATEGORIES:Lesung
ATTACH;FMTTYPE=image/jpeg:https://www.stadtteilbuecherei-hiltrup.de/wp-content/uploads/2018/12/clemens_logo.jpg
ORGANIZER;CN="Stadtteilb%C3%BCcherei M%C3%BCnster-Hiltrup St. Clemens":MAILTO:info@stadtteilbuecherei-hiltrup.de
END:VEVENT
BEGIN:VEVENT
DTSTART;VALUE=DATE:20241021
DTEND;VALUE=DATE:20241114
DTSTAMP:20260422T062228
CREATED:20241018T140739Z
LAST-MODIFIED:20241018T140909Z
UID:6288-1729468800-1731542399@www.stadtteilbuecherei-hiltrup.de
SUMMARY:Weihnachtspäckchenaktion "Ich schenk dir meinen Stern"
DESCRIPTION:Der Verein „Aktion kleiner Prinz e.V.“ sammelt auch dieses Jahr wieder für Kinder in Rumänien Weihnachtsgeschenke im Schuhkarton.  \nNähere Infos finden Sie auf unserer Hauptseite. \nKontakt über Jutta Stenz-Eilerts (Tel: 02501-261723) und Elisabeth Vieth (Tel: 02501-24680) 
URL:https://www.stadtteilbuecherei-hiltrup.de/event/weihnachtspaeckchenaktion-ich-schenk-dir-meinen-stern-2/
LOCATION:Stadtteilbücherei St. Clemens\, Hohe Geest 1b\, Münster-Hiltrup\, NRW\, 48165\, Deutschland
CATEGORIES:Makerspace
ATTACH;FMTTYPE=image/jpeg:https://www.stadtteilbuecherei-hiltrup.de/wp-content/uploads/2019/11/HPKleinerPrinz2.jpg
ORGANIZER;CN="Aktion kleiner Prinz e.V.":MAILTO:buero@aktion-kleiner-prinz.de
END:VEVENT
END:VCALENDAR