BEGIN:VCALENDAR
VERSION:2.0
PRODID:-//Stadtteilbücherei St. Clemens - ECPv6.8.3//NONSGML v1.0//EN
CALSCALE:GREGORIAN
METHOD:PUBLISH
X-WR-CALNAME:Stadtteilbücherei St. Clemens
X-ORIGINAL-URL:https://www.stadtteilbuecherei-hiltrup.de
X-WR-CALDESC:Veranstaltungen für Stadtteilbücherei St. Clemens
REFRESH-INTERVAL;VALUE=DURATION:PT1H
X-Robots-Tag:noindex
X-PUBLISHED-TTL:PT1H
BEGIN:VTIMEZONE
TZID:Europe/Berlin
BEGIN:DAYLIGHT
TZOFFSETFROM:+0100
TZOFFSETTO:+0200
TZNAME:CEST
DTSTART:20250330T010000
END:DAYLIGHT
BEGIN:STANDARD
TZOFFSETFROM:+0200
TZOFFSETTO:+0100
TZNAME:CET
DTSTART:20251026T010000
END:STANDARD
END:VTIMEZONE
BEGIN:VEVENT
DTSTART;TZID=Europe/Berlin:20250404T180000
DTEND;TZID=Europe/Berlin:20250404T220000
DTSTAMP:20260421T180942
CREATED:20250125T111952Z
LAST-MODIFIED:20250125T111952Z
UID:6456-1743789600-1743804000@www.stadtteilbuecherei-hiltrup.de
SUMMARY:Nacht der Bibliotheken
DESCRIPTION:Unter dem Motto Wissen. Teilen. Entdecken. gibt es im Wintergarten eine Präsentation zur Bibliothek der Dinge\, eine Buchausstellung mit Empfehlungen unserer Mitarbeitenden sowie eine MINT-Lesung mit Clemens dem Lesedrachen.  \nFür die Lesedrachen-Veranstaltung gibt es ab dem 21.3.2025 kostenlose Eintrittskarten in unserer Bücherei. Die Lesung beginnt um 18 Uhr. 
URL:https://www.stadtteilbuecherei-hiltrup.de/event/nacht-der-bibliotheken-2/
LOCATION:Stadtteilbücherei St. Clemens\, Hohe Geest 1b\, Münster-Hiltrup\, NRW\, 48165\, Deutschland
CATEGORIES:Lesung,Makerspace,Vortrag
ATTACH;FMTTYPE=image/jpeg:https://www.stadtteilbuecherei-hiltrup.de/wp-content/uploads/2025/01/Nacht-der-Bibliotheken-2025.jpg
END:VEVENT
BEGIN:VEVENT
DTSTART;TZID=Europe/Berlin:20250405T100000
DTEND;TZID=Europe/Berlin:20250405T110000
DTSTAMP:20260421T180942
CREATED:20250222T103505Z
LAST-MODIFIED:20250222T103505Z
UID:6541-1743847200-1743850800@www.stadtteilbuecherei-hiltrup.de
SUMMARY:Sonderlesung Clemens der Lesedrache lädt ein ... Grundschulkinder
DESCRIPTION:Bei dieser Sonderlesung begeben wir uns mit einer kleinen Maus auf die Reise zum Mond. \nEingeladen sind hier alle Kinder von 6-10 Jahren (Grundschulkinder). Die kostenlosen Eintrittskarten sind jeweils 14 Tage vor der Veranstaltung in der Bücherei erhältlich und telefonisch reservierbar. Bei Reservierungen bitte Name und Alter des Kindes sowie eine Kontakttelefonnummer hinterlegen lassen.  \nBitte achten Sie auf die Altersangaben bei den Lesungen! Die Lesungen werden dem Alter der Kinder entsprechend vorbereitet und die Bastelaktionen passend geplant.  \nWir bitten euch einige Voraussetzungen zu beachten:  \n\nKommt bitte nur zu uns wenn ihr keine Krankheitssymptome aufweist! \nMindestalter: Kindergartenlesungen: ab 3 Jahre\, maximal Vorschulkind\, Grundschullesungen: ab 6 Jahren (An den Altersgrenzen wird streng festgehalten.)\nDie Lesungen finden unter Vorbehalt der aktuellen Situation statt und können auch kurzfristig ausfallen. Wir informieren euch rechtzeitig
URL:https://www.stadtteilbuecherei-hiltrup.de/event/sonderlesung-clemens-der-lesedrache-laedt-ein-grundschulkinder/
LOCATION:Stadtteilbücherei St. Clemens\, Hohe Geest 1b\, Münster-Hiltrup\, NRW\, 48165\, Deutschland
CATEGORIES:Lesung
ATTACH;FMTTYPE=image/jpeg:https://www.stadtteilbuecherei-hiltrup.de/wp-content/uploads/2025/02/Sonderlesung-Armstrong-5_4_25.jpg
ORGANIZER;CN="Stadtteilb%C3%BCcherei M%C3%BCnster-Hiltrup St. Clemens":MAILTO:info@stadtteilbuecherei-hiltrup.de
END:VEVENT
BEGIN:VEVENT
DTSTART;TZID=Europe/Berlin:20250412T100000
DTEND;TZID=Europe/Berlin:20250412T110000
DTSTAMP:20260421T180942
CREATED:20250222T104433Z
LAST-MODIFIED:20250222T104433Z
UID:6547-1744452000-1744455600@www.stadtteilbuecherei-hiltrup.de
SUMMARY:Clemens der Lesedrache lädt ein ... Kinder von 3 - 6 Jahren
DESCRIPTION:Eingeladen sind hier alle Kinder von 3-6 Jahren (Vorschulkinder). Die kostenlosen Eintrittskarten sind jeweils 14 Tage vor der Veranstaltung in der Bücherei erhältlich und ggf. telefonisch reservierbar.\nNeu: Bei vielen Anmeldungen gibt es für Kindergartenkinder zwei Vorlesezeiten (10 Uhr und 11:30 Uhr). Wir lesen jeweils dasselbe Buch und bieten dieselbe Bastelaktion an. Bitte suchen Sie sich nur eine der Lesungen aus. Bitte hinterlassen Sie Name und Alter des Kindes sowie eine Kontakttelefonnummer\, damit wir Sie informieren können\, falls sich etwas unerwartetes ergibt.\nBitte achten Sie auf die Altersangaben bei den Lesungen! Die Lesungen werden dem Alter der Kinder entsprechend vorbereitet und die Bastelaktionen passend geplant.  \nWir bitten euch einige Voraussetzungen zu beachten:  \n\nKommt bitte nur zu uns wenn ihr keine Krankheitssymptome aufweist! \nMindestalter: Kindergartenlesungen: ab 3 Jahre\, maximal Vorschulkind\, Grundschullesungen: ab 6 Jahren (An den Altersgrenzen wird streng festgehalten.)\nDie Lesungen finden unter Vorbehalt der aktuellen Situation statt und können auch kurzfristig ausfallen. Wir informieren euch rechtzeitig.
URL:https://www.stadtteilbuecherei-hiltrup.de/event/clemens-der-lesedrache-laedt-ein-kinder-von-3-6-jahren-3/
LOCATION:Stadtteilbücherei St. Clemens\, Hohe Geest 1b\, Münster-Hiltrup\, NRW\, 48165\, Deutschland
CATEGORIES:Lesung
ATTACH;FMTTYPE=image/jpeg:https://www.stadtteilbuecherei-hiltrup.de/wp-content/uploads/2025/02/Lesung-Kitakinder-2_Quartal.jpg
ORGANIZER;CN="Stadtteilb%C3%BCcherei M%C3%BCnster-Hiltrup St. Clemens":MAILTO:info@stadtteilbuecherei-hiltrup.de
END:VEVENT
BEGIN:VEVENT
DTSTART;TZID=Europe/Berlin:20250419T100000
DTEND;TZID=Europe/Berlin:20250419T110000
DTSTAMP:20260421T180942
CREATED:20250222T103556Z
LAST-MODIFIED:20250222T103556Z
UID:6543-1745056800-1745060400@www.stadtteilbuecherei-hiltrup.de
SUMMARY:Clemens der Lesedrache lädt ein ... Grundschulkinder
DESCRIPTION:Eingeladen sind hier alle Kinder von 6-10 Jahren (Grundschulkinder). Die kostenlosen Eintrittskarten sind jeweils 14 Tage vor der Veranstaltung in der Bücherei erhältlich und telefonisch reservierbar. Bei Reservierungen bitte Name und Alter des Kindes sowie eine Kontakttelefonnummer hinterlegen lassen.  \nBitte achten Sie auf die Altersangaben bei den Lesungen! Die Lesungen werden dem Alter der Kinder entsprechend vorbereitet und die Bastelaktionen passend geplant.  \nWir bitten euch einige Voraussetzungen zu beachten:  \n\nKommt bitte nur zu uns wenn ihr keine Krankheitssymptome aufweist! \nMindestalter: Kindergartenlesungen: ab 3 Jahre\, maximal Vorschulkind\, Grundschullesungen: ab 6 Jahren (An den Altersgrenzen wird streng festgehalten.)\nDie Lesungen finden unter Vorbehalt der aktuellen Situation statt und können auch kurzfristig ausfallen. Wir informieren euch rechtzeitig
URL:https://www.stadtteilbuecherei-hiltrup.de/event/clemens-der-lesedrache-laedt-ein-grundschulkinder-51/
LOCATION:Stadtteilbücherei St. Clemens\, Hohe Geest 1b\, Münster-Hiltrup\, NRW\, 48165\, Deutschland
CATEGORIES:Lesung
ATTACH;FMTTYPE=image/jpeg:https://www.stadtteilbuecherei-hiltrup.de/wp-content/uploads/2025/02/Lesung-Grundschulkinder-2_Quartal2025.jpg
ORGANIZER;CN="Stadtteilb%C3%BCcherei M%C3%BCnster-Hiltrup St. Clemens":MAILTO:info@stadtteilbuecherei-hiltrup.de
END:VEVENT
END:VCALENDAR