BEGIN:VCALENDAR
VERSION:2.0
PRODID:-//Stadtteilbücherei St. Clemens - ECPv6.8.3//NONSGML v1.0//EN
CALSCALE:GREGORIAN
METHOD:PUBLISH
X-WR-CALNAME:Stadtteilbücherei St. Clemens
X-ORIGINAL-URL:https://www.stadtteilbuecherei-hiltrup.de
X-WR-CALDESC:Veranstaltungen für Stadtteilbücherei St. Clemens
REFRESH-INTERVAL;VALUE=DURATION:PT1H
X-Robots-Tag:noindex
X-PUBLISHED-TTL:PT1H
BEGIN:VTIMEZONE
TZID:Europe/Berlin
BEGIN:DAYLIGHT
TZOFFSETFROM:+0100
TZOFFSETTO:+0200
TZNAME:CEST
DTSTART:20250330T010000
END:DAYLIGHT
BEGIN:STANDARD
TZOFFSETFROM:+0200
TZOFFSETTO:+0100
TZNAME:CET
DTSTART:20251026T010000
END:STANDARD
END:VTIMEZONE
BEGIN:VEVENT
DTSTART;TZID=Europe/Berlin:20250510T100000
DTEND;TZID=Europe/Berlin:20250510T110000
DTSTAMP:20260421T165720
CREATED:20250222T104521Z
LAST-MODIFIED:20250222T104521Z
UID:6549-1746871200-1746874800@www.stadtteilbuecherei-hiltrup.de
SUMMARY:Clemens der Lesedrache lädt ein ... Kinder von 3 - 6 Jahren
DESCRIPTION:Eingeladen sind hier alle Kinder von 3-6 Jahren (Vorschulkinder). Die kostenlosen Eintrittskarten sind jeweils 14 Tage vor der Veranstaltung in der Bücherei erhältlich und ggf. telefonisch reservierbar.\nNeu: Bei vielen Anmeldungen gibt es für Kindergartenkinder zwei Vorlesezeiten (10 Uhr und 11:30 Uhr). Wir lesen jeweils dasselbe Buch und bieten dieselbe Bastelaktion an. Bitte suchen Sie sich nur eine der Lesungen aus. Bitte hinterlassen Sie Name und Alter des Kindes sowie eine Kontakttelefonnummer\, damit wir Sie informieren können\, falls sich etwas unerwartetes ergibt.\nBitte achten Sie auf die Altersangaben bei den Lesungen! Die Lesungen werden dem Alter der Kinder entsprechend vorbereitet und die Bastelaktionen passend geplant.  \nWir bitten euch einige Voraussetzungen zu beachten:  \n\nKommt bitte nur zu uns wenn ihr keine Krankheitssymptome aufweist! \nMindestalter: Kindergartenlesungen: ab 3 Jahre\, maximal Vorschulkind\, Grundschullesungen: ab 6 Jahren (An den Altersgrenzen wird streng festgehalten.)\nDie Lesungen finden unter Vorbehalt der aktuellen Situation statt und können auch kurzfristig ausfallen. Wir informieren euch rechtzeitig.
URL:https://www.stadtteilbuecherei-hiltrup.de/event/clemens-der-lesedrache-laedt-ein-kinder-von-3-6-jahren-4/
LOCATION:Stadtteilbücherei St. Clemens\, Hohe Geest 1b\, Münster-Hiltrup\, NRW\, 48165\, Deutschland
ATTACH;FMTTYPE=image/jpeg:https://www.stadtteilbuecherei-hiltrup.de/wp-content/uploads/2025/02/Lesung-Kitakinder-2_Quartal.jpg
ORGANIZER;CN="Stadtteilb%C3%BCcherei M%C3%BCnster-Hiltrup St. Clemens":MAILTO:info@stadtteilbuecherei-hiltrup.de
END:VEVENT
BEGIN:VEVENT
DTSTART;VALUE=DATE:20250517
DTEND;VALUE=DATE:20250519
DTSTAMP:20260421T165720
CREATED:20250114T110124Z
LAST-MODIFIED:20250114T110124Z
UID:6418-1747440000-1747612799@www.stadtteilbuecherei-hiltrup.de
SUMMARY:Hiltruper Frühlingsfest mit großem Medienflohmarkt
DESCRIPTION:Auch in diesem Jahr sind wir wieder mit einem Stand dabei! Ob alte Bücher\, Spiele\, DVD´s oder Hörspiele zum kleinen Preis\, Gratisgutscheine für Leserausweise\, bei uns ist was los. Außerdem können Sie sich an unserem Stand über das Flüchtlingsnetzwerk Hiltrup informieren.    \nWir freuen uns auf Ihren Besuch!
URL:https://www.stadtteilbuecherei-hiltrup.de/event/hiltruper-fruehlingsfest-mit-grossem-medienflohmarkt/
LOCATION:NRW
CATEGORIES:Flohmarkt
ATTACH;FMTTYPE=image/jpeg:https://www.stadtteilbuecherei-hiltrup.de/wp-content/uploads/2024/01/Fruehlingsfest-Foto-2023.jpg
END:VEVENT
BEGIN:VEVENT
DTSTART;TZID=Europe/Berlin:20250518T123000
DTEND;TZID=Europe/Berlin:20250518T133000
DTSTAMP:20260421T165720
CREATED:20250222T110446Z
LAST-MODIFIED:20250306T160222Z
UID:6559-1747571400-1747575000@www.stadtteilbuecherei-hiltrup.de
SUMMARY:Clemens der Lesedrache - Lesung auf dem Frühlingsfest
DESCRIPTION:Wir stehen mit unserem Stand in der Nähe des Infopunktes auf der Marktallee. Wir lesen aus unseren Lieblingsbüchern vor.  \nDies ist ein offenes Angebot. Eine Anmeldung ist nicht erforderlich. 
URL:https://www.stadtteilbuecherei-hiltrup.de/event/clemens-der-lesedrache-lesung-auf-dem-fruehlingsfest/
LOCATION:Marktallee Hiltrup\, Münster-Hiltrup\, Nordrhein-Westfalen\, Deutschland
CATEGORIES:Flohmarkt,Lesung
ATTACH;FMTTYPE=image/jpeg:https://www.stadtteilbuecherei-hiltrup.de/wp-content/uploads/2025/02/Lesung-Fruehlingsfest-2025.jpg
ORGANIZER;CN="Stadtteilb%C3%BCcherei M%C3%BCnster-Hiltrup St. Clemens":MAILTO:info@stadtteilbuecherei-hiltrup.de
END:VEVENT
END:VCALENDAR