BEGIN:VCALENDAR
VERSION:2.0
PRODID:-//Stadtteilbücherei St. Clemens - ECPv6.8.3//NONSGML v1.0//EN
CALSCALE:GREGORIAN
METHOD:PUBLISH
X-ORIGINAL-URL:https://www.stadtteilbuecherei-hiltrup.de
X-WR-CALDESC:Veranstaltungen für Stadtteilbücherei St. Clemens
REFRESH-INTERVAL;VALUE=DURATION:PT1H
X-Robots-Tag:noindex
X-PUBLISHED-TTL:PT1H
BEGIN:VTIMEZONE
TZID:Europe/Berlin
BEGIN:DAYLIGHT
TZOFFSETFROM:+0100
TZOFFSETTO:+0200
TZNAME:CEST
DTSTART:20190331T010000
END:DAYLIGHT
BEGIN:STANDARD
TZOFFSETFROM:+0200
TZOFFSETTO:+0100
TZNAME:CET
DTSTART:20191027T010000
END:STANDARD
END:VTIMEZONE
BEGIN:VEVENT
DTSTART;TZID=Europe/Berlin:20191207T100000
DTEND;TZID=Europe/Berlin:20191207T120000
DTSTAMP:20260425T031833
CREATED:20191023T145434Z
LAST-MODIFIED:20191023T145434Z
UID:2673-1575712800-1575720000@www.stadtteilbuecherei-hiltrup.de
SUMMARY:Handarbeitstreff zwischen Kaffee und Büchern
DESCRIPTION:In Kooperation mit der Instagram-Bloggerin “glueckhoch.4” bieten wir am ersten Samstag im Monat einen offenen Stricktreff an. \nEs ist jeder willkommen! \nDas Material muss selbst mitgebracht werden\, Ideen und Hilfestellung sowie nette Gespräche und die ein oder andere Tasse günstigen Fairtrade Kaffee gibt es bei uns. \nWir treffen uns im Wintergarten der Bücherei.
URL:https://www.stadtteilbuecherei-hiltrup.de/event/handarbeitstreff-zwischen-kaffee-und-buechern-5/
LOCATION:Stadtteilbücherei St. Clemens\, Hohe Geest 1b\, Münster-Hiltrup\, NRW\, 48165\, Deutschland
CATEGORIES:Makerspace
ATTACH;FMTTYPE=image/jpeg:https://www.stadtteilbuecherei-hiltrup.de/wp-content/uploads/2019/03/20190315_200852402465796583244274.jpg
ORGANIZER;CN="Stadtteilb%C3%BCcherei M%C3%BCnster-Hiltrup St. Clemens":MAILTO:info@stadtteilbuecherei-hiltrup.de
END:VEVENT
BEGIN:VEVENT
DTSTART;TZID=Europe/Berlin:20191214T100000
DTEND;TZID=Europe/Berlin:20191214T110000
DTSTAMP:20260425T031833
CREATED:20190731T144104Z
LAST-MODIFIED:20190731T144104Z
UID:2365-1576317600-1576321200@www.stadtteilbuecherei-hiltrup.de
SUMMARY:Clemens der Lesedrache lädt ein ... Kindergartenkinder
DESCRIPTION:Es weihnachtet sehr… wir stecken in den Vorbereitungen und genießen die Adventszeit. \nEingeladen sind hier alle Kindergartenkinder von 3-5 Jahren. Kostenlose Eintrittskarten gibt es jeweils 14 Tage vorher bei uns. Wenn die Kinder 4 gestempelte Eintrittskarten gesammelt haben dürfen sie einmal in die Schatzkiste greifen und sich ein kleines Geschenk aussuchen. In den Vorlesestunden werden 1-2 kurze Geschichten vorgelesen\, die Kinder können mitfiebern\, raten\, zuhören und in der letzten halben Stunde wird meist gebastelt oder gemalt.
URL:https://www.stadtteilbuecherei-hiltrup.de/event/clemens-der-lesedrache-laedt-ein-kindergartenkinder-19/
LOCATION:Stadtteilbücherei St. Clemens\, Hohe Geest 1b\, Münster-Hiltrup\, NRW\, 48165\, Deutschland
CATEGORIES:Lesung
ATTACH;FMTTYPE=image/jpeg:https://www.stadtteilbuecherei-hiltrup.de/wp-content/uploads/2018/12/clemens_logo.jpg
END:VEVENT
END:VCALENDAR