BEGIN:VCALENDAR
VERSION:2.0
PRODID:-//Stadtteilbücherei St. Clemens - ECPv6.8.3//NONSGML v1.0//EN
CALSCALE:GREGORIAN
METHOD:PUBLISH
X-WR-CALNAME:Stadtteilbücherei St. Clemens
X-ORIGINAL-URL:https://www.stadtteilbuecherei-hiltrup.de
X-WR-CALDESC:Veranstaltungen für Stadtteilbücherei St. Clemens
REFRESH-INTERVAL;VALUE=DURATION:PT1H
X-Robots-Tag:noindex
X-PUBLISHED-TTL:PT1H
BEGIN:VTIMEZONE
TZID:Europe/Berlin
BEGIN:DAYLIGHT
TZOFFSETFROM:+0100
TZOFFSETTO:+0200
TZNAME:CEST
DTSTART:20220327T010000
END:DAYLIGHT
BEGIN:STANDARD
TZOFFSETFROM:+0200
TZOFFSETTO:+0100
TZNAME:CET
DTSTART:20221030T010000
END:STANDARD
END:VTIMEZONE
BEGIN:VEVENT
DTSTART;TZID=Europe/Berlin:20220827T150000
DTEND;TZID=Europe/Berlin:20220827T180000
DTSTAMP:20260422T123036
CREATED:20220330T153424Z
LAST-MODIFIED:20220820T093931Z
UID:4855-1661612400-1661623200@www.stadtteilbuecherei-hiltrup.de
SUMMARY:Flohmarkt und Lesung auf dem Pfarrfest
DESCRIPTION:Das Pfarrfest findet in diesem Jahr rund um die St. Clemens Kirche statt. Die Bücherei ist auch dabei! Bei uns finden Sie einen Medienflohmarkt sowie zwei Vorleseaktionen für Kinder!  \nVon 15 bis 18 Uhr können Sie bei uns vor der Bücherei auf dem Bücherflohmarkt stöbern. \nUm 16:30 Uhr startet eine Vorleseaktion mit Clemens dem Lesedrachen für alle Kinder die Lust haben.  \nDie Bücherei ist an diesem Nachmittag nicht für den Verleih geöffnet. Vormittags sind wir wie gewohnt für Sie da!
URL:https://www.stadtteilbuecherei-hiltrup.de/event/flohmarkt-und-lesung-auf-dem-pfarrfest/
LOCATION:Kirchplatz St. Clemens\, Patronatsstraße 2\, Münster\, 48165\, Deutschland
CATEGORIES:Flohmarkt,Lesung
ATTACH;FMTTYPE=image/jpeg:https://www.stadtteilbuecherei-hiltrup.de/wp-content/uploads/2022/03/Pfarrfest.jpg
ORGANIZER;CN="Stadtteilb%C3%BCcherei M%C3%BCnster-Hiltrup St. Clemens":MAILTO:info@stadtteilbuecherei-hiltrup.de
END:VEVENT
END:VCALENDAR