BEGIN:VCALENDAR
VERSION:2.0
PRODID:-//Stadtteilbücherei St. Clemens - ECPv6.8.3//NONSGML v1.0//EN
CALSCALE:GREGORIAN
METHOD:PUBLISH
X-ORIGINAL-URL:https://www.stadtteilbuecherei-hiltrup.de
X-WR-CALDESC:Veranstaltungen für Stadtteilbücherei St. Clemens
REFRESH-INTERVAL;VALUE=DURATION:PT1H
X-Robots-Tag:noindex
X-PUBLISHED-TTL:PT1H
BEGIN:VTIMEZONE
TZID:Europe/Berlin
BEGIN:DAYLIGHT
TZOFFSETFROM:+0100
TZOFFSETTO:+0200
TZNAME:CEST
DTSTART:20220327T010000
END:DAYLIGHT
BEGIN:STANDARD
TZOFFSETFROM:+0200
TZOFFSETTO:+0100
TZNAME:CET
DTSTART:20221030T010000
END:STANDARD
END:VTIMEZONE
BEGIN:VEVENT
DTSTART;TZID=Europe/Berlin:20220409T100000
DTEND;TZID=Europe/Berlin:20220409T110000
DTSTAMP:20260424T095206
CREATED:20220330T150821Z
LAST-MODIFIED:20220330T150821Z
UID:4840-1649498400-1649502000@www.stadtteilbuecherei-hiltrup.de
SUMMARY:Clemens der Lesedrache lädt ein ... Kindergartenkinder
DESCRIPTION:Eingeladen sind hier alle Kinder von 3-5 Jahren (Vorschulkinder). Die Eintrittskarten sind ab sofort in der Bücherei erhältlich.  \nAufgrund der Corona-Auflagen gelten einige Beschränkungen: \n\nKommt bitte nur zu uns wenn ihr keine Krankheitssymptome aufweist!\nhöchstens 8 Plätze \nErwachsene Begleitpersonen müssen die 3-G-Regeln einhalten (geimpft\, genesen\, getestet). Das Team ist angehalten\, dies am Eingang zu kontrollieren. Bitte halten Sie Nachweise und Personalausweis bereit.\nMindestalter: 3 Jahre\, maximal Vorschulkind (An den Altersgrenzen wird streng festgehalten.)\nFeste Sitzplätze mit ausreichend Abstand\nTragen eines Mund-Nasen-Schutzes ist ab Grundschulalter nötig \nDie Lesungen finden unter Vorbehalt der aktuellen Situation statt und können auch kurzfristig ausfallen. Wir informieren euch rechtzeitig.
URL:https://www.stadtteilbuecherei-hiltrup.de/event/clemens-der-lesedrache-laedt-ein-kindergartenkinder-30/
LOCATION:Stadtteilbücherei St. Clemens\, Hohe Geest 1b\, Münster-Hiltrup\, NRW\, 48165\, Deutschland
CATEGORIES:Lesung
ATTACH;FMTTYPE=image/jpeg:https://www.stadtteilbuecherei-hiltrup.de/wp-content/uploads/2022/03/LesedracheKita9.4.22.jpg
ORGANIZER;CN="Stadtteilb%C3%BCcherei M%C3%BCnster-Hiltrup St. Clemens":MAILTO:info@stadtteilbuecherei-hiltrup.de
END:VEVENT
BEGIN:VEVENT
DTSTART;TZID=Europe/Berlin:20220416T100000
DTEND;TZID=Europe/Berlin:20220416T110000
DTSTAMP:20260424T095206
CREATED:20220330T151210Z
LAST-MODIFIED:20220330T151210Z
UID:4842-1650103200-1650106800@www.stadtteilbuecherei-hiltrup.de
SUMMARY:Clemens der Lesedrache lädt ein ... Grundschulkinder
DESCRIPTION:Eingeladen sind hier alle (Grundschul-) Kinder von 6-10 Jahren. Die Eintrittskarten sind ab sofort in der Bücherei erhältlich.  \nAufgrund der Corona-Auflagen gelten einige Beschränkungen: \n\nKommt bitte nur zu uns wenn ihr keine Krankheitssymptome aufweist!\nhöchstens 14 Plätze \nAlle Besucher müssen die 3-G-Regeln einhalten (geimpft\, genesen\, getestet). Das Team ist angehalten\, dies am Eingang zu kontrollieren. Bitte haltet Nachweise und Personalausweis / Schülerausweis bereit.\nMindestalter: 6 Jahre\, maximal 10 Jahre (An den Altersgrenzen wird streng festgehalten.)\nFeste Sitzplätze mit ausreichend Abstand\nTragen eines Mund-Nasen-Schutzes ist ab Grundschulalter nötig \nDie Lesungen finden unter Vorbehalt der aktuellen Situation statt und können auch kurzfristig ausfallen. Wir informieren euch rechtzeitig.\n\nBitte achtet bei dieser Lesung darauf\, dass auch die Kinder einen 3 G Nachweis vorlegen müssen\, da sie in den Osterferien stattfindet!
URL:https://www.stadtteilbuecherei-hiltrup.de/event/clemens-der-lesedrache-laedt-ein-grundschulkinder-25/
LOCATION:Stadtteilbücherei St. Clemens\, Hohe Geest 1b\, Münster-Hiltrup\, NRW\, 48165\, Deutschland
CATEGORIES:Lesung
ATTACH;FMTTYPE=image/jpeg:https://www.stadtteilbuecherei-hiltrup.de/wp-content/uploads/2022/03/LesedracheGrundschule16.4.22.jpg
ORGANIZER;CN="Stadtteilb%C3%BCcherei M%C3%BCnster-Hiltrup St. Clemens":MAILTO:info@stadtteilbuecherei-hiltrup.de
END:VEVENT
END:VCALENDAR