BEGIN:VCALENDAR
VERSION:2.0
PRODID:-//Stadtteilbücherei St. Clemens - ECPv6.8.3//NONSGML v1.0//EN
CALSCALE:GREGORIAN
METHOD:PUBLISH
X-WR-CALNAME:Stadtteilbücherei St. Clemens
X-ORIGINAL-URL:https://www.stadtteilbuecherei-hiltrup.de
X-WR-CALDESC:Veranstaltungen für Stadtteilbücherei St. Clemens
REFRESH-INTERVAL;VALUE=DURATION:PT1H
X-Robots-Tag:noindex
X-PUBLISHED-TTL:PT1H
BEGIN:VTIMEZONE
TZID:Europe/Berlin
BEGIN:DAYLIGHT
TZOFFSETFROM:+0100
TZOFFSETTO:+0200
TZNAME:CEST
DTSTART:20220327T010000
END:DAYLIGHT
BEGIN:STANDARD
TZOFFSETFROM:+0200
TZOFFSETTO:+0100
TZNAME:CET
DTSTART:20221030T010000
END:STANDARD
END:VTIMEZONE
BEGIN:VEVENT
DTSTART;TZID=Europe/Berlin:20220515T120000
DTEND;TZID=Europe/Berlin:20220515T130000
DTSTAMP:20260424T084045
CREATED:20220330T151521Z
LAST-MODIFIED:20220330T151521Z
UID:4844-1652616000-1652619600@www.stadtteilbuecherei-hiltrup.de
SUMMARY:Wir lesen auf dem Frühlingsfest
DESCRIPTION:Eingeladen sind hier alle Kinder\, die Lust auf Vorlesen haben. Wir stehen auf dem Frühlingsfest und Lesen am Stand von 12 bis 13 Uhr allen vor\, die Lust haben dabei zu sein! \nBitte nehmt aufgrund der Corona-Situation Rücksicht! \n\nKommt bitte nur zu uns wenn ihr keine Krankheitssymptome aufweist!\nTragen eines Mund-Nasen-Schutzes ist ab Grundschulalter nötig \nDie Lesungen finden unter Vorbehalt der aktuellen Situation statt und können auch kurzfristig ausfallen. Wir informieren euch rechtzeitig.
URL:https://www.stadtteilbuecherei-hiltrup.de/event/wir-lesen-auf-dem-fruehlingsfest/
LOCATION:Marktallee Hiltrup\, Münster-Hiltrup\, Nordrhein-Westfalen\, Deutschland
CATEGORIES:Flohmarkt,Lesung
ATTACH;FMTTYPE=image/jpeg:https://www.stadtteilbuecherei-hiltrup.de/wp-content/uploads/2022/03/LesedracheFruehlingsfest15.5.22.jpg
ORGANIZER;CN="Stadtteilb%C3%BCcherei M%C3%BCnster-Hiltrup St. Clemens":MAILTO:info@stadtteilbuecherei-hiltrup.de
END:VEVENT
BEGIN:VEVENT
DTSTART;TZID=Europe/Berlin:20220521T100000
DTEND;TZID=Europe/Berlin:20220521T110000
DTSTAMP:20260424T084045
CREATED:20220330T151812Z
LAST-MODIFIED:20220330T151812Z
UID:4846-1653127200-1653130800@www.stadtteilbuecherei-hiltrup.de
SUMMARY:Clemens der Lesedrache lädt ein ... Grundschulkinder
DESCRIPTION:Eingeladen sind hier alle (Grundschul-) Kinder von 6-10 Jahren. Die Eintrittskarten sind ab dem 06. Mai in der Bücherei erhältlich.  \nAufgrund der Corona-Auflagen gelten einige Beschränkungen: \n\nKommt bitte nur zu uns wenn ihr keine Krankheitssymptome aufweist!\nhöchstens 14 Plätze \nAlle Besucher müssen die 3-G-Regeln einhalten (geimpft\, genesen\, getestet). Das Team ist angehalten\, dies am Eingang zu kontrollieren. Bitte haltet Nachweise und Personalausweis / Schülerausweis bereit.\nMindestalter: 6 Jahre\, maximal 10 Jahre (An den Altersgrenzen wird streng festgehalten.)\nFeste Sitzplätze mit ausreichend Abstand\nTragen eines Mund-Nasen-Schutzes ist ab Grundschulalter nötig \nDie Lesungen finden unter Vorbehalt der aktuellen Situation statt und können auch kurzfristig ausfallen. Wir informieren euch rechtzeitig.
URL:https://www.stadtteilbuecherei-hiltrup.de/event/clemens-der-lesedrache-laedt-ein-grundschulkinder-26/
LOCATION:Stadtteilbücherei St. Clemens\, Hohe Geest 1b\, Münster-Hiltrup\, NRW\, 48165\, Deutschland
CATEGORIES:Lesung
ATTACH;FMTTYPE=image/jpeg:https://www.stadtteilbuecherei-hiltrup.de/wp-content/uploads/2022/03/LesedracheGrundschule21.5.22.jpg
ORGANIZER;CN="Stadtteilb%C3%BCcherei M%C3%BCnster-Hiltrup St. Clemens":MAILTO:info@stadtteilbuecherei-hiltrup.de
END:VEVENT
END:VCALENDAR