BEGIN:VCALENDAR
VERSION:2.0
PRODID:-//Stadtteilbücherei St. Clemens - ECPv6.8.3//NONSGML v1.0//EN
CALSCALE:GREGORIAN
METHOD:PUBLISH
X-WR-CALNAME:Stadtteilbücherei St. Clemens
X-ORIGINAL-URL:https://www.stadtteilbuecherei-hiltrup.de
X-WR-CALDESC:Veranstaltungen für Stadtteilbücherei St. Clemens
REFRESH-INTERVAL;VALUE=DURATION:PT1H
X-Robots-Tag:noindex
X-PUBLISHED-TTL:PT1H
BEGIN:VTIMEZONE
TZID:Europe/Berlin
BEGIN:DAYLIGHT
TZOFFSETFROM:+0100
TZOFFSETTO:+0200
TZNAME:CEST
DTSTART:20220327T010000
END:DAYLIGHT
BEGIN:STANDARD
TZOFFSETFROM:+0200
TZOFFSETTO:+0100
TZNAME:CET
DTSTART:20221030T010000
END:STANDARD
END:VTIMEZONE
BEGIN:VEVENT
DTSTART;TZID=Europe/Berlin:20221112T100000
DTEND;TZID=Europe/Berlin:20221112T110000
DTSTAMP:20260423T092737
CREATED:20220820T091349Z
LAST-MODIFIED:20220820T091349Z
UID:5161-1668247200-1668250800@www.stadtteilbuecherei-hiltrup.de
SUMMARY:Clemens der Lesedrache lädt ein ... Kindergartenkinder
DESCRIPTION:Heute geht es um das Thema: Offen sein – auf ins Unbekannte! \nEingeladen sind hier alle Kinder von 3-6 Jahren (Vorschulkinder). Die kostenlosen Eintrittskarten sind jeweils 14 Tage vor der Veranstaltung in der Bücherei erhältlich.  \nWir bitten euch einige Voraussetzungen zu beachten:  \n\nKommt bitte nur zu uns wenn ihr keine Krankheitssymptome aufweist!\nMindestalter: Kindergartenlesungen: ab 3 Jahre\, maximal Vorschulkind\, Grundschullesungen: ab 6 Jahren (An den Altersgrenzen wird streng festgehalten.)\nEs gelten die aktuellen Bestimmungen der Bücherei (hängen im Eingangsbereich aus)\nDie Lesungen finden unter Vorbehalt der aktuellen Situation statt und können auch kurzfristig ausfallen. Wir informieren euch rechtzeitig.
URL:https://www.stadtteilbuecherei-hiltrup.de/event/clemens-der-lesedrache-laedt-ein-kindergartenkinder-32/
LOCATION:Stadtteilbücherei St. Clemens\, Hohe Geest 1b\, Münster-Hiltrup\, NRW\, 48165\, Deutschland
CATEGORIES:Lesung
ATTACH;FMTTYPE=image/jpeg:https://www.stadtteilbuecherei-hiltrup.de/wp-content/uploads/2016/10/clemens_logo-e1475945161659.jpg
ORGANIZER;CN="Stadtteilb%C3%BCcherei M%C3%BCnster-Hiltrup St. Clemens":MAILTO:info@stadtteilbuecherei-hiltrup.de
END:VEVENT
BEGIN:VEVENT
DTSTART;TZID=Europe/Berlin:20221119T100000
DTEND;TZID=Europe/Berlin:20221119T110000
DTSTAMP:20260423T092737
CREATED:20220820T091626Z
LAST-MODIFIED:20220820T091626Z
UID:5163-1668852000-1668855600@www.stadtteilbuecherei-hiltrup.de
SUMMARY:Clemens der Lesedrache lädt ein ... Grundschulkinder
DESCRIPTION:In dieser Lesung geht es darum\, wie es ist\, wenn man anders ist. Was ist schon normal?  \nEingeladen sind hier alle Kinder ab 6 Jahren (Grundschulkinder). Die kostenlosen Eintrittskarten sind jeweils 14 Tage vor der Veranstaltung in der Bücherei erhältlich.  \nWir bitten euch einige Voraussetzungen zu beachten:  \n\nKommt bitte nur zu uns wenn ihr keine Krankheitssymptome aufweist!\nMindestalter: Kindergartenlesungen: ab 3 Jahre\, maximal Vorschulkind\, Grundschullesungen: ab 6 Jahren (An den Altersgrenzen wird streng festgehalten.)\nEs gelten die aktuellen Bestimmungen der Bücherei (hängen im Eingangsbereich aus)\nDie Lesungen finden unter Vorbehalt der aktuellen Situation statt und können auch kurzfristig ausfallen. Wir informieren euch rechtzeitig.
URL:https://www.stadtteilbuecherei-hiltrup.de/event/clemens-der-lesedrache-laedt-ein-grundschulkinder-29/
LOCATION:Stadtteilbücherei St. Clemens\, Hohe Geest 1b\, Münster-Hiltrup\, NRW\, 48165\, Deutschland
CATEGORIES:Lesung
ATTACH;FMTTYPE=image/jpeg:https://www.stadtteilbuecherei-hiltrup.de/wp-content/uploads/2016/10/clemens_logo-e1475945161659.jpg
ORGANIZER;CN="Stadtteilb%C3%BCcherei M%C3%BCnster-Hiltrup St. Clemens":MAILTO:info@stadtteilbuecherei-hiltrup.de
END:VEVENT
END:VCALENDAR