BEGIN:VCALENDAR
VERSION:2.0
PRODID:-//Stadtteilbücherei St. Clemens - ECPv6.8.3//NONSGML v1.0//EN
CALSCALE:GREGORIAN
METHOD:PUBLISH
X-ORIGINAL-URL:https://www.stadtteilbuecherei-hiltrup.de
X-WR-CALDESC:Veranstaltungen für Stadtteilbücherei St. Clemens
REFRESH-INTERVAL;VALUE=DURATION:PT1H
X-Robots-Tag:noindex
X-PUBLISHED-TTL:PT1H
BEGIN:VTIMEZONE
TZID:Europe/Berlin
BEGIN:DAYLIGHT
TZOFFSETFROM:+0100
TZOFFSETTO:+0200
TZNAME:CEST
DTSTART:20230326T010000
END:DAYLIGHT
BEGIN:STANDARD
TZOFFSETFROM:+0200
TZOFFSETTO:+0100
TZNAME:CET
DTSTART:20231029T010000
END:STANDARD
END:VTIMEZONE
BEGIN:VEVENT
DTSTART;TZID=Europe/Berlin:20230114T100000
DTEND;TZID=Europe/Berlin:20230114T110000
DTSTAMP:20260423T045632
CREATED:20221227T151736Z
LAST-MODIFIED:20221227T151736Z
UID:5342-1673690400-1673694000@www.stadtteilbuecherei-hiltrup.de
SUMMARY:Clemens der Lesedrache lädt ein ... Kindergartenkinder
DESCRIPTION:Heutiges Thema: Talente \nEingeladen sind hier alle Kinder von 3-6 Jahren (Vorschulkinder). Die kostenlosen Eintrittskarten sind jeweils 14 Tage vor der Veranstaltung in der Bücherei erhältlich. Neu: Es gibt für Kindergartenkinder zwei Vorlesezeiten. Wir lesen jeweils dasselbe Buch und bieten dieselbe Bastelaktion an. Bitte suchen Sie sich nur eine der Lesungen aus.  \nWir bitten euch einige Voraussetzungen zu beachten:  \n\nKommt bitte nur zu uns wenn ihr keine Krankheitssymptome aufweist!\nMindestalter: Kindergartenlesungen: ab 3 Jahre\, maximal Vorschulkind\, Grundschullesungen: ab 6 Jahren (An den Altersgrenzen wird streng festgehalten.)\nEs gelten die aktuellen Bestimmungen der Bücherei (hängen im Eingangsbereich aus)\nDie Lesungen finden unter Vorbehalt der aktuellen Situation statt und können auch kurzfristig ausfallen. Wir informieren euch rechtzeitig.
URL:https://www.stadtteilbuecherei-hiltrup.de/event/clemens-der-lesedrache-laedt-ein-kindergartenkinder-34/
LOCATION:Stadtteilbücherei St. Clemens\, Hohe Geest 1b\, Münster-Hiltrup\, NRW\, 48165\, Deutschland
CATEGORIES:Lesung
ATTACH;FMTTYPE=image/jpeg:https://www.stadtteilbuecherei-hiltrup.de/wp-content/uploads/2018/12/clemens_logo.jpg
ORGANIZER;CN="Stadtteilb%C3%BCcherei M%C3%BCnster-Hiltrup St. Clemens":MAILTO:info@stadtteilbuecherei-hiltrup.de
END:VEVENT
BEGIN:VEVENT
DTSTART;TZID=Europe/Berlin:20230114T113000
DTEND;TZID=Europe/Berlin:20230114T123000
DTSTAMP:20260423T045632
CREATED:20221227T151911Z
LAST-MODIFIED:20221227T151911Z
UID:5344-1673695800-1673699400@www.stadtteilbuecherei-hiltrup.de
SUMMARY:Clemens der Lesedrache lädt ein ... Kindergartenkinder
DESCRIPTION:Heutiges Thema: Talente \nEingeladen sind hier alle Kinder von 3-6 Jahren (Vorschulkinder). Die kostenlosen Eintrittskarten sind jeweils 14 Tage vor der Veranstaltung in der Bücherei erhältlich. Neu: Es gibt für Kindergartenkinder zwei Vorlesezeiten. Wir lesen jeweils dasselbe Buch und bieten dieselbe Bastelaktion an. Bitte suchen Sie sich nur eine der Lesungen aus.  \nWir bitten euch einige Voraussetzungen zu beachten:  \n\nKommt bitte nur zu uns wenn ihr keine Krankheitssymptome aufweist!\nMindestalter: Kindergartenlesungen: ab 3 Jahre\, maximal Vorschulkind\, Grundschullesungen: ab 6 Jahren (An den Altersgrenzen wird streng festgehalten.)\nEs gelten die aktuellen Bestimmungen der Bücherei (hängen im Eingangsbereich aus)\nDie Lesungen finden unter Vorbehalt der aktuellen Situation statt und können auch kurzfristig ausfallen. Wir informieren euch rechtzeitig.
URL:https://www.stadtteilbuecherei-hiltrup.de/event/clemens-der-lesedrache-laedt-ein-kindergartenkinder-35/
LOCATION:Stadtteilbücherei St. Clemens\, Hohe Geest 1b\, Münster-Hiltrup\, NRW\, 48165\, Deutschland
CATEGORIES:Lesung
ATTACH;FMTTYPE=image/jpeg:https://www.stadtteilbuecherei-hiltrup.de/wp-content/uploads/2018/12/clemens_logo.jpg
ORGANIZER;CN="Stadtteilb%C3%BCcherei M%C3%BCnster-Hiltrup St. Clemens":MAILTO:info@stadtteilbuecherei-hiltrup.de
END:VEVENT
BEGIN:VEVENT
DTSTART;TZID=Europe/Berlin:20230121T100000
DTEND;TZID=Europe/Berlin:20230121T110000
DTSTAMP:20260423T045632
CREATED:20221227T154035Z
LAST-MODIFIED:20221227T154035Z
UID:5357-1674295200-1674298800@www.stadtteilbuecherei-hiltrup.de
SUMMARY:Clemens der Lesedrache lädt ein ... Grundschulkinder
DESCRIPTION:Heutiges Thema: Winter nervt! \nEingeladen sind hier alle Kinder ab 6 Jahren (Grundschulkinder). Die kostenlosen Eintrittskarten sind jeweils 14 Tage vor der Veranstaltung in der Bücherei erhältlich.  \nWir bitten euch einige Voraussetzungen zu beachten:  \n\nKommt bitte nur zu uns wenn ihr keine Krankheitssymptome aufweist!\nMindestalter: Kindergartenlesungen: ab 3 Jahre\, maximal Vorschulkind\, Grundschullesungen: ab 6 Jahren (An den Altersgrenzen wird streng festgehalten.)\nEs gelten die aktuellen Bestimmungen der Bücherei (hängen im Eingangsbereich aus)\nDie Lesungen finden unter Vorbehalt der aktuellen Situation statt und können auch kurzfristig ausfallen. Wir informieren euch rechtzeitig.
URL:https://www.stadtteilbuecherei-hiltrup.de/event/clemens-der-lesedrache-laedt-ein-grundschulkinder-31/
LOCATION:Stadtteilbücherei St. Clemens\, Hohe Geest 1b\, Münster-Hiltrup\, NRW\, 48165\, Deutschland
CATEGORIES:Lesung
ATTACH;FMTTYPE=image/jpeg:https://www.stadtteilbuecherei-hiltrup.de/wp-content/uploads/2018/12/clemens_logo.jpg
ORGANIZER;CN="Stadtteilb%C3%BCcherei M%C3%BCnster-Hiltrup St. Clemens":MAILTO:info@stadtteilbuecherei-hiltrup.de
END:VEVENT
END:VCALENDAR